BEGIN:VCALENDAR
VERSION:2.0
PRODID:-//Productivity SA - ECPv6.15.14//NONSGML v1.0//EN
CALSCALE:GREGORIAN
METHOD:PUBLISH
X-WR-CALNAME:Productivity SA
X-ORIGINAL-URL:https://productivitysa.co.za
X-WR-CALDESC:Events for Productivity SA
REFRESH-INTERVAL;VALUE=DURATION:PT1H
X-Robots-Tag:noindex
X-PUBLISHED-TTL:PT1H
BEGIN:VTIMEZONE
TZID:UTC
BEGIN:STANDARD
TZOFFSETFROM:+0000
TZOFFSETTO:+0000
TZNAME:UTC
DTSTART:20240101T000000
END:STANDARD
END:VTIMEZONE
BEGIN:VEVENT
DTSTART;TZID=UTC:20251010T090000
DTEND;TZID=UTC:20251010T130000
DTSTAMP:20260422T225534
CREATED:20251007T063223Z
LAST-MODIFIED:20251124T091322Z
UID:7290-1760086800-1760101200@productivitysa.co.za
SUMMARY:LAP EMPLOYER SESSION
DESCRIPTION:The Department of Employment and Labour (DEL) through Labour Activation Programm (LAP) in\npartnership with Productivity SA in the Western Cape\, cordially invites employers and SMME’s under\nthe City of Cape Town Municipality to attend the LAP’s Employer Session that will be held at the\nPresidential Hotel in Cape Town (Western Cape). \nThe LAP’s Employer Session aims to empower employers\, educare and raise awareness about\nLabour Activation Programm’s and relevant labour laws impacting employee working conditions.\nIn addition\, the session seeks to encourage meaningful interaction between the Department of\nEmployment and Labour\, and its valued key strategic stakeholders\, particularly employees. This\naligns with the DEL’s mandate to safeguard the interests of vulnerable workers. \nThe following topics will be covered:\n• TERS and BT&R • UIF Compliance and Declarations • Clarifying Reduced Worktime Benefits •\nCompensation Fund (Compensation for Occupational Injuries and Diseases Act) • Inspection and\nEnforcement Services (Basic Conditions of Employment Act / National Minimum Wage and OHS) •\nProductivity SA \nRegister Now\n\n    Download Invitation\n\n \nFor enquiries: Ms Poppy Mafenuka (021) 441 8075\nEmail: poppy.mafenuka@labour.gov.za 
URL:https://productivitysa.co.za/event/lap-employer-session/
LOCATION:Presidentail Hotel\, 4 Alexander Road\, Bantry Bay\, Western cape
ATTACH;FMTTYPE=image/jpeg:https://productivitysa.co.za/wp-content/uploads/2025/10/558505444_1147132980845368_3600492612029760890_n.jpg
END:VEVENT
BEGIN:VEVENT
DTSTART;TZID=UTC:20251010T140000
DTEND;TZID=UTC:20251010T170000
DTSTAMP:20260422T225534
CREATED:20251007T124101Z
LAST-MODIFIED:20251124T091419Z
UID:7323-1760104800-1760115600@productivitysa.co.za
SUMMARY:Round Table discussion on the 2025 IMD World Competitiveness Yearbook results
DESCRIPTION:THEME: A productive nation is a competitive nation \nTITLE: Advancing Knowledge on Global Competitiveness:\nReflections on South Africa’s Performance \nDATE: 10 October 2025\nTIME: 14:00 SAST\nVENUE: Hybrid (In-person & Online)Nadine Gordimer Auditorium\,\nLevel 5\, Kingsway Campus Library\, UJ \nKEY PRESENTER\nMs Juliet Mashabela (Productivity SA Acting Chief Economist) \nFACILITATORS\nMr Rudy Petersen (Senior Manager\, Government and Stakeholder Relations\, UJ)\nMs Lalane Janse Van Rensburg (Executive Manager\, Research\, Innovation and Statistics\,\nProductivity SA) \nOBJECTIVES FOR THE DISCUSSION\n• To present the latest World Competitiveness Report with specific reference to South Africa’s performance.\n• To analyze key drivers of productivity and competitiveness in the context of global trends.\n• To facilitate scholarly and policy dialogue on the implications of the Report for national development.\n• To encourage academic reflection and critical engagement\nwith competitiveness as a field of study.\n• To strengthen collaboration between academic institutions\,\ngovernment\, and Productivity SA in advancing knowledge\nand practice. \nRegister Now\n\n    Download Invitation\n    Download Programme\n\n \n 
URL:https://productivitysa.co.za/event/round-table-discussion-on-the-2025-imd-world-competitiveness-yearbook-results/
LOCATION:Hybrid (In-person & Online)Nadine Gordimer Auditorium\, Level 5\, Kingsway Campus Library\, UJ
ATTACH;FMTTYPE=image/jpeg:https://productivitysa.co.za/wp-content/uploads/2025/10/558987064_1148970213994978_3734158003228209403_n.jpg
END:VEVENT
BEGIN:VEVENT
DTSTART;TZID=UTC:20251028T120000
DTEND;TZID=UTC:20251028T170000
DTSTAMP:20260422T225534
CREATED:20251008T135232Z
LAST-MODIFIED:20251124T101412Z
UID:7333-1761652800-1761670800@productivitysa.co.za
SUMMARY:46th National Productivity Awards  and the Africa Kaizen Awards
DESCRIPTION:The Stage is Set for the National Productivity Awards and the Africa Kaizen Awards.\nAn afternoon of recognition\, inspiration and celebration in productivity and innovation. \nDATE: 28 October 2025\nTIME: 12:00 – 17:00\nVENUE: Virtual \nWe look forward to hosting you for the 46th National Productivity Awards and the Africa Kaizen Awards at this inspiring afternoon of recognition\, innovation\, and the continuous journey of productivity improvement\, as we honour excellence and celebrate The Champions Shaping Africa’s Future. \n  \n  \nProductivity Awards 2025 Gallery\n\n    Productivity Awards 2025 Winners\n \n 
URL:https://productivitysa.co.za/event/46th-national-productivity-awards-and-the-africa-kaizen-awards/
LOCATION:Virtual
ATTACH;FMTTYPE=image/jpeg:https://productivitysa.co.za/wp-content/uploads/2025/10/568510116_1161790272712972_5043555954167171130_n-1.jpg
END:VEVENT
BEGIN:VEVENT
DTSTART;TZID=UTC:20251120T100000
DTEND;TZID=UTC:20251120T130000
DTSTAMP:20260422T225534
CREATED:20251120T112004Z
LAST-MODIFIED:20251120T112214Z
UID:7750-1763632800-1763643600@productivitysa.co.za
SUMMARY:KwaZulu Natal WPC Milestone workshop
DESCRIPTION:Productivity SA is excited to announce our KwaZulu Natal Workplace Challenge (WPC) Milestone Workshop Event \nTheme: “Inclusive Growth for a Sustainable Future: Africa in the Global Economy.” \nDate: 20 November 2025 – 9:30 for 10:00 – 13:00 \nVenue: Riverside Hotel 10 Kenneth Kaunda Road\, Durban North\,\nDurban\, 4051 \nRegister Now
URL:https://productivitysa.co.za/event/kwazulu-natal-wpc-milestone-workshop/
ATTACH;FMTTYPE=image/jpeg:https://productivitysa.co.za/wp-content/uploads/2025/11/586526810_1182758063949526_3857146520837155440_n.jpg
END:VEVENT
BEGIN:VEVENT
DTSTART;TZID=UTC:20251127T100000
DTEND;TZID=UTC:20251127T130000
DTSTAMP:20260422T225534
CREATED:20251124T083726Z
LAST-MODIFIED:20251124T084640Z
UID:8353-1764237600-1764248400@productivitysa.co.za
SUMMARY:Eastern Cape WPC Milestone Workshop
DESCRIPTION:Productivity SA’s is excited to announce our upcoming Eastern Cape Workplace Challenge (WPC) Milestone Workshop Event \nDate: 27 November 2025 – 10h00-13h00 \nVenue: Dolphins Leap Conference and Events\, 35 Humewood Rd\, Shop 14C\, Dolphins Leap Center\, Gqeberha\, 6013 \n\nRegister Now
URL:https://productivitysa.co.za/event/eastern-cape-wpc-milestone-workshop/
LOCATION:Dolphins Leap Conference and Events\, 35 Humewood Rd\, Shop 14C\, Dolphins Leap Center\, Gqeberha\, 6013
END:VEVENT
BEGIN:VEVENT
DTSTART;TZID=UTC:20251128T100000
DTEND;TZID=UTC:20251128T130000
DTSTAMP:20260422T225534
CREATED:20251112T122715Z
LAST-MODIFIED:20251120T100605Z
UID:7685-1764324000-1764334800@productivitysa.co.za
SUMMARY:Free State WPC Milestone Workshop
DESCRIPTION:Productivity SA is excited to announce our upcoming Free State Workplace Challenge (WPC) Milestone Workshop Event \nDate: 28 November 2025 – 10:00 to 13:00 \nVenue: Zoom \n\nRegister Now
URL:https://productivitysa.co.za/event/free-state-wpc-milestone-workshop/
LOCATION:Virtual
ATTACH;FMTTYPE=image/jpeg:https://productivitysa.co.za/wp-content/uploads/2025/11/580622136_1177662087792457_3523320634701129591_n.jpg
END:VEVENT
BEGIN:VEVENT
DTSTART;TZID=UTC:20251203T100000
DTEND;TZID=UTC:20251203T130000
DTSTAMP:20260422T225534
CREATED:20251125T101751Z
LAST-MODIFIED:20251125T101751Z
UID:8629-1764756000-1764766800@productivitysa.co.za
SUMMARY:2025 Productivity Statistics Launch
DESCRIPTION:You are invited to join Productivity SA as it unpacks the performance of productivity indicators. \n“Productivity growth remained subdued in 2024 amid a shifting geopolitical and economic landscape” \n“Labour and Capital productivity increased while Multifactor productivity decreased somewhat in 2024\,underlying weakness in South Africa’s productivity growth remains.” \nDate: 03 December 2025 – 10:00 to 13:00 \nVenue: Zoom \n\nRegister Now
URL:https://productivitysa.co.za/event/2025-productivity-statistics-launch/
END:VEVENT
BEGIN:VEVENT
DTSTART;TZID=UTC:20260225T100000
DTEND;TZID=UTC:20260225T130000
DTSTAMP:20260422T225534
CREATED:20260206T094831Z
LAST-MODIFIED:20260303T070832Z
UID:8729-1772013600-1772024400@productivitysa.co.za
SUMMARY:North West WPC Milestone Workshop
DESCRIPTION:Productivity SA is excited to announce our upcoming North West Workplace Challenge (WPC) Milestone Workshop Event \nDate: 25 February 2026 – 10:00 to 13:00 \nVenue: Zoom \n\nDownload Programme\n\n \nActing CEO Welcome Address
URL:https://productivitysa.co.za/event/north-west-wpc-milestone-workshop-2/
LOCATION:Virtual
ATTACH;FMTTYPE=image/png:https://productivitysa.co.za/wp-content/uploads/2026/02/Productivity-SA-Banner-2.png
END:VEVENT
BEGIN:VEVENT
DTSTART;TZID=UTC:20260316T090000
DTEND;TZID=UTC:20260319T140000
DTSTAMP:20260422T225534
CREATED:20260225T091727Z
LAST-MODIFIED:20260225T092411Z
UID:8770-1773651600-1773928800@productivitysa.co.za
SUMMARY:One-day Workshop on Kaizen Principles
DESCRIPTION:Join us for an interactive workshop focused on practical Kazien principles that drive efficiency\, productivity\, and measurable results in your organisation. \nDate:16\, 17 & 19 March 2026 – 09h00 – 14h00 \nVenue: UWC Innovation Hub \n\nRegister Now
URL:https://productivitysa.co.za/event/one-day-workshop-on-kaizen-principles/
LOCATION:UWC Innovation Hub
END:VEVENT
END:VCALENDAR