BEGIN:VCALENDAR
VERSION:2.0
PRODID:-//Productivity SA - ECPv6.15.14//NONSGML v1.0//EN
CALSCALE:GREGORIAN
METHOD:PUBLISH
X-ORIGINAL-URL:https://productivitysa.co.za
X-WR-CALDESC:Events for Productivity SA
REFRESH-INTERVAL;VALUE=DURATION:PT1H
X-Robots-Tag:noindex
X-PUBLISHED-TTL:PT1H
BEGIN:VTIMEZONE
TZID:UTC
BEGIN:STANDARD
TZOFFSETFROM:+0000
TZOFFSETTO:+0000
TZNAME:UTC
DTSTART:20240101T000000
END:STANDARD
END:VTIMEZONE
BEGIN:VEVENT
DTSTART;TZID=UTC:20251028T120000
DTEND;TZID=UTC:20251028T170000
DTSTAMP:20260422T131840
CREATED:20251008T135232Z
LAST-MODIFIED:20251124T101412Z
UID:7333-1761652800-1761670800@productivitysa.co.za
SUMMARY:46th National Productivity Awards  and the Africa Kaizen Awards
DESCRIPTION:The Stage is Set for the National Productivity Awards and the Africa Kaizen Awards.\nAn afternoon of recognition\, inspiration and celebration in productivity and innovation. \nDATE: 28 October 2025\nTIME: 12:00 – 17:00\nVENUE: Virtual \nWe look forward to hosting you for the 46th National Productivity Awards and the Africa Kaizen Awards at this inspiring afternoon of recognition\, innovation\, and the continuous journey of productivity improvement\, as we honour excellence and celebrate The Champions Shaping Africa’s Future. \n  \n  \nProductivity Awards 2025 Gallery\n\n    Productivity Awards 2025 Winners\n \n 
URL:https://productivitysa.co.za/event/46th-national-productivity-awards-and-the-africa-kaizen-awards/
LOCATION:Virtual
ATTACH;FMTTYPE=image/jpeg:https://productivitysa.co.za/wp-content/uploads/2025/10/568510116_1161790272712972_5043555954167171130_n-1.jpg
END:VEVENT
END:VCALENDAR