BEGIN:VCALENDAR
VERSION:2.0
PRODID:-//Productivity SA - ECPv6.15.14//NONSGML v1.0//EN
CALSCALE:GREGORIAN
METHOD:PUBLISH
X-ORIGINAL-URL:https://productivitysa.co.za
X-WR-CALDESC:Events for Productivity SA
REFRESH-INTERVAL;VALUE=DURATION:PT1H
X-Robots-Tag:noindex
X-PUBLISHED-TTL:PT1H
BEGIN:VTIMEZONE
TZID:UTC
BEGIN:STANDARD
TZOFFSETFROM:+0000
TZOFFSETTO:+0000
TZNAME:UTC
DTSTART:20240101T000000
END:STANDARD
END:VTIMEZONE
BEGIN:VEVENT
DTSTART;VALUE=DATE:20250827
DTEND;VALUE=DATE:20250829
DTSTAMP:20260422T180042
CREATED:20250827T085115Z
LAST-MODIFIED:20251124T100119Z
UID:7200-1756252800-1756425599@productivitysa.co.za
SUMMARY:CALL FOR EXHIBITORS - AFRICA KAIZEN ANNUAL CONFERENCE 2025
DESCRIPTION:The Africa Kaizen Annual Conference (AKAC) 2025 will take place on 27–28 October 2025 at the\nBirchwood Hotel\, Boksburg\, South Africa. As part of the conference\, a Panel Exhibition will be held in the\nCedarwood and Yellowwood Rooms\, located close to the main conference hall. This exhibition offers a\nunique platform for manufacturing companies to showcase their Kaizen (Quality and Productivity\nImprovement – QPI) success stories to policymakers\, industry leaders\, and international partners from\nacross Africa. \nWe are pleased to announce an open call for up to 16 manufacturing companies to participate in the\nexhibition. Selected companies will be provided with a 3m x 2m exhibition stand (8 stands per room) free\nof charge. Exhibitors are expected to prepare their own display content\, which may include posters\, panels\,\npamphlets\, sample products\, videos\, or other materials to demonstrate their achievements and activities\nin QPI/Kaizen. \nExhibition Period\nAfternoon of 26 October – Evening of 28 October 2025 \nExhibition Venue\nCedarwood and Yellowwood Rooms – Manufacturing Companies Section \nExhibition Style\n• Panel / poster presentation\n• Product or service display\n• Pamphlets\, videos\, and other promotional materials\n• Organiser provides panels\, desk\, and chairs; exhibitors prepare and install their own content and\nmaterials \nCosts\n• The organiser covers the cost of the exhibition panels and basic furniture.\n• Exhibitors are responsible for all costs related to content preparation\, printing\, and display\nmaterials. \nPreparation Schedule\n• August 2025: Call for exhibitors\, selection of exhibitors\n• September 2025: ; Orientation; space allocation\, preparation of exhibition content by exhibitors\n• October 2025: Pre-event meeting with exhibitors; panel installation on 26 October; exhibition on\n27–28 October; dismantling on the evening of 28 October \nApplication Deadline\nFriday 29 August 2025 (23:59) \nHow to Apply\nInterested companies are invited to submit an expression of interest including:\n1. Company name\, address\, and contact details\n2. Brief description of Kaizen/QPI activities and achievements\n3. Proposed content for the exhibition panel(s) (text\, images\, videos))\n4. Any special requirements (e.g.\, electricity\, audiovisual equipment) \nSelection Process\n1. Final selection will be made by NQPN management team\n2. Preference will be given to companies that participated in the Kaizen project with the NQPN\nmembers \nApplications should be sent to:\nMs. Mpho Moimane\, mmoimane@aidc.co.za (C.c nqpn.sa@gmail.com) \nThis is an excellent opportunity to promote your company’s competitiveness\, share best practices\, and network with key stakeholders from across Africa and beyond. \n\nDownload our Flyer
URL:https://productivitysa.co.za/event/africa-kaizen-annual-conference-2025-call-for-exhibitors/
LOCATION:BIRCHWOOD HOTEL\,  BOKSBURG\, SOUTH AFRICA
ATTACH;FMTTYPE=image/jpeg:https://productivitysa.co.za/wp-content/uploads/2025/08/538757040_1113168584241808_6496029843328371525_n.jpg
END:VEVENT
END:VCALENDAR