BEGIN:VCALENDAR
VERSION:2.0
PRODID:-//Productivity SA - ECPv6.15.14//NONSGML v1.0//EN
CALSCALE:GREGORIAN
METHOD:PUBLISH
X-ORIGINAL-URL:https://productivitysa.co.za
X-WR-CALDESC:Events for Productivity SA
REFRESH-INTERVAL;VALUE=DURATION:PT1H
X-Robots-Tag:noindex
X-PUBLISHED-TTL:PT1H
BEGIN:VTIMEZONE
TZID:UTC
BEGIN:STANDARD
TZOFFSETFROM:+0000
TZOFFSETTO:+0000
TZNAME:UTC
DTSTART:20240101T000000
END:STANDARD
END:VTIMEZONE
BEGIN:VEVENT
DTSTART;TZID=UTC:20250820T100000
DTEND;TZID=UTC:20250820T130000
DTSTAMP:20260422T180007
CREATED:20251124T075110Z
LAST-MODIFIED:20251124T113817Z
UID:8009-1755684000-1755694800@productivitysa.co.za
SUMMARY:Gauteng WPC Milestone Workshop
DESCRIPTION:Productivity SA’s is excited to announce our upcoming Gauteng Workplace Challenge (WPC) Milestone Workshop Event \nDate: 20 August 2025 – 10h00-13h00 \nVenue: Premier Hotel\, 187 3rd Road\, Halfway Gardens\, Midrand \n  \nDownload Programme\n\n \n  \nGauteng Workplace Challenge (WPC) Milestone Workshop Event Gallery
URL:https://productivitysa.co.za/event/gauteng-wpc-milestone-workshop/
ATTACH;FMTTYPE=image/png:https://productivitysa.co.za/wp-content/uploads/2025/11/1-2.png
END:VEVENT
END:VCALENDAR