BEGIN:VCALENDAR
VERSION:2.0
PRODID:-//Productivity SA - ECPv6.15.14//NONSGML v1.0//EN
CALSCALE:GREGORIAN
METHOD:PUBLISH
X-WR-CALNAME:Productivity SA
X-ORIGINAL-URL:https://productivitysa.co.za
X-WR-CALDESC:Events for Productivity SA
REFRESH-INTERVAL;VALUE=DURATION:PT1H
X-Robots-Tag:noindex
X-PUBLISHED-TTL:PT1H
BEGIN:VTIMEZONE
TZID:UTC
BEGIN:STANDARD
TZOFFSETFROM:+0000
TZOFFSETTO:+0000
TZNAME:UTC
DTSTART:20240101T000000
END:STANDARD
END:VTIMEZONE
BEGIN:VEVENT
DTSTART;VALUE=DATE:20250728
DTEND;VALUE=DATE:20250801
DTSTAMP:20260422T175613
CREATED:20250703T151345Z
LAST-MODIFIED:20250704T105252Z
UID:7071-1753660800-1754006399@productivitysa.co.za
SUMMARY:Unlock Growth for Your SME: Join the Expand Your Business (EYB) Training  Programme
DESCRIPTION:Are you an ambitious entrepreneur looking to expand your small or medium-sized enterprise? The Expand Your Business (EYB) Training Programme offers you a practical\, results-driven toolkit to scale your business\, improve your strategy\, and create quality employment. \nThe EYB Programme is an integrated business training and support package designed for growth-oriented small to medium-sized enterprises (SMEs). It equips entrepreneurs with the tools and insights needed to assess market potential\, seize expansion opportunities\, and contribute to sustainable job creation. \n\nWho is the EYB Training for?\nThe EYB Programme is ideal for SMEs with a clear ambition to grow their operations. If you’re looking to take your business to the next level\, this programme is for you. \nBy participating\, you will be supported to:\n– Analyse your current business situation and identify growth strategies.\n– Strengthen core functions such as marketing\, operations\, and human resources to support expansion.\n– Access linkages to export and trade\, technology transfer organisations\, mentorship programmes\, and B2B partnerships.\n– Explore financing and networking opportunities.\n– Engage in a business growth simulation game to practice decision-making and learn the impact of those decisions.\n– Benefit from individual counselling and follow-ups for tailored business guidance. \n\nMinimum Requirements for Applicants\n– Must be based in the Western Cape area.\n– Valid CIPC Company Registration Certificate.\n– Recent proof of SARS Tax Registration. \n\nKey Information\nWorkshop Dates: 28 – 31 July 2025 \nVenue: Bellville Area\, Cape Town – Western Cape \nApplication Deadline: By 16h00 on 18 July 2025 \nApplication Link: https://forms.office.com/r/mPKBfeZ3pL \nSector Focus: Preference will be given to SMEs in the Automotive\, Leather\, and Footwear sectors. \n\nContact Us\nFor more information\, feel free to contact Productivity SA:📞 WhatsApp: 076 136 8350 (Ref: EYB Training)📧 Email: Jean-drec@productivitysa.co.za \n  \n📄 Click here to download the brochure
URL:https://productivitysa.co.za/event/unlock-growth-for-your-sme-join-the-expand-your-business-eyb-training-programme/
LOCATION:Bellville Area\, Cape Town – Western Cape\, South Africa
ATTACH;FMTTYPE=image/jpeg:https://productivitysa.co.za/wp-content/uploads/2025/07/Productivity-sa-6-69.jpeg
END:VEVENT
END:VCALENDAR