BEGIN:VCALENDAR
VERSION:2.0
PRODID:-//Productivity SA - ECPv6.15.14//NONSGML v1.0//EN
CALSCALE:GREGORIAN
METHOD:PUBLISH
X-WR-CALNAME:Productivity SA
X-ORIGINAL-URL:https://productivitysa.co.za
X-WR-CALDESC:Events for Productivity SA
REFRESH-INTERVAL;VALUE=DURATION:PT1H
X-Robots-Tag:noindex
X-PUBLISHED-TTL:PT1H
BEGIN:VTIMEZONE
TZID:UTC
BEGIN:STANDARD
TZOFFSETFROM:+0000
TZOFFSETTO:+0000
TZNAME:UTC
DTSTART:20240101T000000
END:STANDARD
END:VTIMEZONE
BEGIN:VEVENT
DTSTART;TZID=UTC:20250528T100000
DTEND;TZID=UTC:20250528T130000
DTSTAMP:20260422T211000
CREATED:20250514T124811Z
LAST-MODIFIED:20250516T130626Z
UID:6813-1748426400-1748437200@productivitysa.co.za
SUMMARY:Virtual Knowledge Sharing Webinar: Sector Insights for a more productive SA
DESCRIPTION:Join us for a dialogue as we present key findings from two major research reports: \n\nThe Energy Sector Report\nThe Footwear and Leather Industry Report This seminar will provide valuable insights into productivity challenges\, opportunities\, and the way forward for these sectors.\n\nDate: 28 May 2025\, 10h00- 12h00 \nTheme: Sector Insights for a more productive South Africa \nRegister here
URL:https://productivitysa.co.za/event/virtual-research-seminar-sector-insights-for-a-more-productive-sa/
LOCATION:Virtual
ATTACH;FMTTYPE=image/png:https://productivitysa.co.za/wp-content/uploads/2025/05/Productivity-sa-5-72.png
END:VEVENT
END:VCALENDAR